BEGIN:VCALENDAR
VERSION:2.0
PRODID:-//94.242.250.210//NONSGML kigkonsult.se iCalcreator 2.26.9//
CALSCALE:GREGORIAN
METHOD:PUBLISH
X-WR-CALNAME:FLSE
X-WR-CALDESC:Fédération Luxembourgeoise des Sports Equestres
X-FROM-URL:https://flse.lu
X-WR-TIMEZONE:Europe/Luxembourg
BEGIN:VTIMEZONE
TZID:Europe/Luxembourg
X-LIC-LOCATION:Europe/Luxembourg
BEGIN:STANDARD
DTSTART:20191027T030000
TZOFFSETFROM:+0200
TZOFFSETTO:+0100
RDATE:20201025T030000
TZNAME:CET
END:STANDARD
BEGIN:DAYLIGHT
DTSTART:20200329T020000
TZOFFSETFROM:+0100
TZOFFSETTO:+0200
RDATE:20210328T020000
TZNAME:CEST
END:DAYLIGHT
END:VTIMEZONE
BEGIN:VEVENT
UID:ai1ec-5087@flse.lu
DTSTAMP:20200426T223953Z
CATEGORIES;LANGUAGE=de-DE:Springen
CONTACT:
DESCRIPTION:Parcourssprangen 1.03.2020
DTSTART;VALUE=DATE:20200301
DTEND;VALUE=DATE:20200302
SEQUENCE:0
SUMMARY:Trainingssprangen an den Feelenerhecken
URL:https://flse.lu/event/trainingssprangen-an-den-feelenerhecken/
X-COST-TYPE:free
X-ALT-DESC;FMTTYPE=text/html:<!DOCTYPE HTML PUBLIC '-//W3C//DTD HTML 3.2//E
 N'>\\n<HTML>\\n<HEAD>\\n<TITLE></TITLE>\\n</HEAD>\\n<BODY><p><a href='http
 s://flse.lu/wp-content/uploads/2020/02/Parcourssprangen-1.2.20.pdf'>Parcou
 rssprangen 1.03.2020</a></p>\n</BODY></HTML>
END:VEVENT
END:VCALENDAR
