BEGIN:VCALENDAR
VERSION:2.0
PRODID:-//94.242.250.210//NONSGML kigkonsult.se iCalcreator 2.26.9//
CALSCALE:GREGORIAN
METHOD:PUBLISH
X-WR-CALNAME:FLSE
X-WR-CALDESC:Fédération Luxembourgeoise des Sports Equestres
X-FROM-URL:https://flse.lu
X-WR-TIMEZONE:Europe/Luxembourg
BEGIN:VTIMEZONE
TZID:Europe/Luxembourg
X-LIC-LOCATION:Europe/Luxembourg
BEGIN:STANDARD
DTSTART:20191027T030000
TZOFFSETFROM:+0200
TZOFFSETTO:+0100
RDATE:20201025T030000
TZNAME:CET
END:STANDARD
BEGIN:DAYLIGHT
DTSTART:20200329T020000
TZOFFSETFROM:+0100
TZOFFSETTO:+0200
RDATE:20210328T020000
TZNAME:CEST
END:DAYLIGHT
END:VTIMEZONE
BEGIN:VEVENT
UID:ai1ec-4859@flse.lu
DTSTAMP:20200426T223434Z
CATEGORIES;LANGUAGE=de-DE:Dressur
CONTACT:
DESCRIPTION:Leiteschhaff/Roeser:\nWir freuen uns erstmals\, im neuen Jahr\,
  einen Dressurlehrgang in unserer neuen Reithalle anbieten zu können.\nDre
 ssurlehrgang mit Pascal Strohbücker\n \n u.a.\n– FN Richter Dressur S***\n
 – Träger des goldenen Reitabzeichend\n– Pferdewirtschaftsmeister Zucht/Hal
 tung \n \nDie Kosten pro Pferd/Reiter pro Tag belaufen sich auf 75€ für ei
 ne Einheit à 30min Einzelunterricht/ inkl. Hallennutzung.\n \nAnmeldung pe
 r Email/WhatsApp \n(function(){var ml='zg%ArDfinCo43-F0Ekltase2hv.c8m'\,mi
 ='2
DTSTART;VALUE=DATE:20200118
DTEND;VALUE=DATE:20200120
LOCATION:Leiteschhaff/Roeser:
SEQUENCE:0
SUMMARY:Dressurlehrgang mit Pascal Strohbücker
URL:https://flse.lu/event/dressurlehrgang-mit-pascal-strohbuecker/
X-COST-TYPE:free
X-ALT-DESC;FMTTYPE=text/html:<!DOCTYPE HTML PUBLIC '-//W3C//DTD HTML 3.2//E
 N'>\\n<HTML>\\n<HEAD>\\n<TITLE></TITLE>\\n</HEAD>\\n<BODY><p>Leiteschhaff/
 Roeser:</p>\n<p>Wir freuen uns erstmals\, im neuen Jahr\, einen Dressurleh
 rgang in unserer neuen Reithalle anbieten zu können.</p>\n<p>Dressurlehrga
 ng mit Pascal Strohbücker</p>\n<p> </p>\n<p> u.a.</p>\n<p>– FN Richter Dre
 ssur S***</p>\n<p>– Träger des goldenen Reitabzeichend</p>\n<p>– Pferdewir
 tschaftsmeister Zucht/Haltung </p>\n<p> </p>\n<p>Die Kosten pro Pferd/Reit
 er pro Tag belaufen sich auf 75€ für eine Einheit à 30min Einzelunterricht
 / inkl. Hallennutzung.</p>\n<p> </p>\n<p>Anmeldung per Email/WhatsApp </p>
 \n<p><span id='eeb-982695'></span><script type='text/javascript'>(function
 (){var ml='zg%ArDfinCo43-F0Ekltase2hv.c8m'\,mi='2<9D2G?H4F62<52GGMD7BC:2<3
 IF4F8DHF780LG2\;?1MD7BJK:M2GG2G?2G?KBDEE2<52GGMD7BC:=B78A2GG2<@IF4F8DHF780
 LG2\;?1MD7BJK:M2<92G>D2<@'\,o=''\;for(var j=0\,l=mi.length\;j<l\;j++){o+=m
 l.charAt(mi.charCodeAt(j)-48)\;}document.getElementById('eeb-982695').inne
 rHTML = decodeURIComponent(o)\;}())\;</script><noscript>*protected email*<
 /noscript> </p>\n<p>Tel: +352661218207</p>\n</BODY></HTML>
END:VEVENT
END:VCALENDAR
