BEGIN:VCALENDAR
VERSION:2.0
PRODID:-//94.242.250.210//NONSGML kigkonsult.se iCalcreator 2.26.9//
CALSCALE:GREGORIAN
METHOD:PUBLISH
X-WR-CALNAME:FLSE
X-WR-CALDESC:Fédération Luxembourgeoise des Sports Equestres
X-FROM-URL:https://flse.lu
X-WR-TIMEZONE:Europe/Luxembourg
BEGIN:VTIMEZONE
TZID:Europe/Luxembourg
X-LIC-LOCATION:Europe/Luxembourg
BEGIN:STANDARD
DTSTART:20191027T030000
TZOFFSETFROM:+0200
TZOFFSETTO:+0100
RDATE:20201025T030000
TZNAME:CET
END:STANDARD
BEGIN:DAYLIGHT
DTSTART:20200329T020000
TZOFFSETFROM:+0100
TZOFFSETTO:+0200
RDATE:20210328T020000
TZNAME:CEST
END:DAYLIGHT
END:VTIMEZONE
BEGIN:VEVENT
UID:ai1ec-4615@flse.lu
DTSTAMP:20200426T223143Z
CATEGORIES;LANGUAGE=de-DE:Abzeichen
CONTACT:
DESCRIPTION:Alle Informationen finden sie in nachfolgendem PDF.\nTrainerass
 istent Reiten Luxemburg
DTSTART;VALUE=DATE:20191025
DTEND;VALUE=DATE:20191028
LOCATION:Bricher Paerdsstall @ P2PH+76 Böwingen/Attert
SEQUENCE:0
SUMMARY:Trainerassistent im Pferdesport
URL:https://flse.lu/event/trainerassistent-im-pferdesport/
X-COST-TYPE:free
X-ALT-DESC;FMTTYPE=text/html:<!DOCTYPE HTML PUBLIC '-//W3C//DTD HTML 3.2//E
 N'>\\n<HTML>\\n<HEAD>\\n<TITLE></TITLE>\\n</HEAD>\\n<BODY><p>Alle Informat
 ionen finden sie in nachfolgendem PDF.</p>\n<p><a href='https://flse.lu/wp
 -content/uploads/2019/09/Trainerassistent-Reiten-Luxemburg.pdf'>Trainerass
 istent Reiten Luxemburg</a></p>\n</BODY></HTML>
END:VEVENT
END:VCALENDAR
