BEGIN:VCALENDAR
VERSION:2.0
PRODID:-//94.242.250.210//NONSGML kigkonsult.se iCalcreator 2.26.9//
CALSCALE:GREGORIAN
METHOD:PUBLISH
X-WR-CALNAME:FLSE
X-WR-CALDESC:Fédération Luxembourgeoise des Sports Equestres
X-FROM-URL:https://flse.lu
X-WR-TIMEZONE:Europe/Luxembourg
BEGIN:VTIMEZONE
TZID:Europe/Luxembourg
X-LIC-LOCATION:Europe/Luxembourg
BEGIN:STANDARD
DTSTART:20191027T030000
TZOFFSETFROM:+0200
TZOFFSETTO:+0100
RDATE:20201025T030000
TZNAME:CET
END:STANDARD
BEGIN:DAYLIGHT
DTSTART:20200329T020000
TZOFFSETFROM:+0100
TZOFFSETTO:+0200
RDATE:20210328T020000
TZNAME:CEST
END:DAYLIGHT
END:VTIMEZONE
BEGIN:VEVENT
UID:ai1ec-4559@flse.lu
DTSTAMP:20200426T223246Z
CATEGORIES;LANGUAGE=de-DE:Abzeichen
CONTACT:
DESCRIPTION:Reitabzeichenprüfung / Abnahme Basispass\nSamstag 16.November 2
 019\nRichter: Marco Ulrich\, Uta Rosenau\nManege Kandel Freres \n(61 Chaus
 se Blanche L-8014 Strassen)\nBasispass: \nTheorie und praktischer Umgang m
 it dem Pferd(ohne Reiten)\nDer Basispass muss vorhanden sein oder gemacht 
 werden um die Reitabzeichen ab Klasse 5 zu machen!\nReitabzeichen Klasse 5
 : (für LK6)\nTheorie/ E-Dressur/E-Springen\nReitabzeichen Klasse 4: (für L
 K5)\nTheorie/A-Dressur/A-Springen\nBei Interesse auch weitere Reitabzeiche
 n möglich!\n \nTheorieunterricht für Reitabzeichen Klasse 4/5 \nSamstag  1
 9.10. / 26.10. / 9.11. jeweils 11-13h\n (6 Theoriestunden sind Pflicht um 
 zur Abzeichenprüfung zugelassen zu werden!)\n \nTheorieunterricht Basispas
 s\nSamstag  19.10. / 26.10. / 9.11. jeweils 13.30-15.30h\n \nWeitere Info:
  Uschi Mattes 691 524 529 / (function(){var ml='n2a.kelErDF-imoAu3c%sCp4hf
 t0'\,mi='CAE2C1KH85ICA9C11=2CA?@=2JJ5DCGKFJ36@C11C1KC1KB62DDCA9C11=2\;65:@
 @I0??DD?D2?D27A:00?C8?DD5:3A@=EA3FG?DD?C4>5:@@I0??C6?DH:?C4'\,o=''\;for(va
 r j=0\,l=mi.length\;j
DTSTART;VALUE=DATE:20191116
DTEND;VALUE=DATE:20191117
SEQUENCE:0
SUMMARY:Reitabzeichen Strassen
URL:https://flse.lu/event/reitabzeichen-strassen/
X-COST-TYPE:free
X-ALT-DESC;FMTTYPE=text/html:<!DOCTYPE HTML PUBLIC '-//W3C//DTD HTML 3.2//E
 N'>\\n<HTML>\\n<HEAD>\\n<TITLE></TITLE>\\n</HEAD>\\n<BODY><p><strong>Reita
 bzeichenprüfung / Abnahme Basispass</strong></p>\n<p><strong>Samstag 16.No
 vember 2019</strong></p>\n<p>Richter: Marco Ulrich\, Uta Rosenau</p>\n<p><
 strong>Manege Kandel Freres </strong></p>\n<p>(61 Chausse Blanche L-8014 S
 trassen)</p>\n<p><strong>Basispass: </strong></p>\n<p>Theorie und praktisc
 her Umgang mit dem Pferd(ohne Reiten)</p>\n<p>Der Basispass muss vorhanden
  sein oder gemacht werden um die Reitabzeichen ab Klasse 5 zu machen!</p>
 \n<p><strong>Reitabzeichen Klasse 5: (</strong>für LK6)</p>\n<p>Theorie/ E
 -Dressur/E-Springen</p>\n<p><strong>Reitabzeichen Klasse 4: </strong>(für 
 LK5)</p>\n<p>Theorie/A-Dressur/A-Springen</p>\n<p>Bei Interesse auch weite
 re Reitabzeichen möglich!</p>\n<p> </p>\n<p><strong>Theorieunterricht für 
 Reitabzeichen Klasse 4/5 </strong></p>\n<p><strong>Samstag  19.10. / 26.10
 . / 9.11. jeweils 11-13h</strong></p>\n<p><strong> </strong>(6 Theoriestun
 den sind Pflicht um zur Abzeichenprüfung zugelassen zu werden!)</p>\n<p> <
 /p>\n<p><strong>Theorieunterricht Basispass</strong></p>\n<p><strong>Samst
 ag  19.10. / 26.10. / 9.11. jeweils 13.30-15.30h</strong></p>\n<p><strong>
  </strong></p>\n<p><strong>Weitere Info: Uschi Mattes 691 524 529 / <span 
 id='eeb-682756'></span><script type='text/javascript'>(function(){var ml='
 n2a.kelErDF-imoAu3c%sCp4hft0'\,mi='CAE2C1KH85ICA9C11=2<6J>CA?@=2JJ5DCGKFJ3
 6@C11C1KC1KB62DDCA9C11=2<6J>\;6<04C11CA7@=2JJ5DCGKFJ36@CAEC1:2CA7'\,o=''\;
 for(var j=0\,l=mi.length\;j<l\;j++){o+=ml.charAt(mi.charCodeAt(j)-48)\;}do
 cument.getElementById('eeb-682756').innerHTML = decodeURIComponent(o)\;}()
 )\;</script><noscript>*protected email*</noscript></strong></p>\n<p><stron
 g> </strong><strong>Preise:</strong></p>\n<p><strong>Basispass & Theorie 1
 50€</strong></p>\n<p><strong>Abzeichen Kl.4 & Theorie 150€ </strong></p>\n
 <p><strong>Abzeichen Kl.5 & Theorie 150€</strong></p>\n<p><strong>Nur Abze
 ichenprüfung Kl.4 60€</strong></p>\n<p><strong>Nur Abzeichenprüfung Kl.5 6
 0€</strong></p>\n<p><strong>Buch für Basispass 14€</strong></p>\n<p><stron
 g>Buch für Reitabzeichen 18€</strong></p>\n<p>Bücher bitte bei Anmeldung b
 estellen!</p>\n<p>Bitte verbindliche Anmeldung und Bezahlung bis Freitag 1
 8.10. (bei Teilnahme an den Theoriekursen)</p>\n<p>bis 9.11. wenn Theorie 
 vorhanden.</p>\n<p> </p>\n<p><strong>Anmeldung:</strong></p>\n<p>Bitte E-M
 ail an <span id='eeb-493803'></span><script type='text/javascript'>(functi
 on(){var ml='rieuAo3snlhmp2Ecf0t%F4kDa.-C'\,mi='C6KHC=A:02@C6GC==\;H19B5C6
 43\;HBB27CEA<BI93C==C=AC=A?9H77C6GC==\;H19B5J918FC==C6>3\;HBB27CEA<BI93C6K
 C=DHC6>'\,o=''\;for(var j=0\,l=mi.length\;j<l\;j++){o+=ml.charAt(mi.charCo
 deAt(j)-48)\;}document.getElementById('eeb-493803').innerHTML = decodeURIC
 omponent(o)\;}())\;</script><noscript>*protected email*</noscript> mit Ang
 abe von</p>\n<p>Name/Adresse/Geburtsdatum/Club/ welche Prüfung</p>\n<p>(bi
 tte angeben ob Basispass vorhanden ist)</p>\n<p>Bezahlung bar bei der erst
 en Theoriestunde oder bis 19.10. auf BCEE LU19 0019 2603 9272 7000 (Ursula
  Mattes)</p>\n<p><strong>Weitere Info: Uschi Mattes 691 524 529 / <span id
 ='eeb-460861'></span><script type='text/javascript'>(function(){var ml='sp
 0iEmCcDfah4ou%tl.32-nkFeAr'\,mi='?C6:?D2\;KI9?C8?DD5:3A@=?CJ>5:@@I0?<21@BA
 >?DD?D2?D27A:00?C8?DD5:3A@=EA3FG?DD?C4>5:@@I0?<21@BA>?C6?DH:?C4'\,o=''\;fo
 r(var j=0\,l=mi.length\;j<l\;j++){o+=ml.charAt(mi.charCodeAt(j)-48)\;}docu
 ment.getElementById('eeb-460861').innerHTML = decodeURIComponent(o)\;}())\
 ;</script><noscript>*protected email*</noscript></strong></p>\n<p> </p>\n<
 /BODY></HTML>
END:VEVENT
END:VCALENDAR
