BEGIN:VCALENDAR
VERSION:2.0
PRODID:-//94.242.250.210//NONSGML kigkonsult.se iCalcreator 2.26.9//
CALSCALE:GREGORIAN
METHOD:PUBLISH
X-WR-CALNAME:FLSE
X-WR-CALDESC:Fédération Luxembourgeoise des Sports Equestres
X-FROM-URL:https://flse.lu
X-WR-TIMEZONE:Europe/Luxembourg
BEGIN:VTIMEZONE
TZID:Europe/Luxembourg
X-LIC-LOCATION:Europe/Luxembourg
BEGIN:STANDARD
DTSTART:20191027T030000
TZOFFSETFROM:+0200
TZOFFSETTO:+0100
RDATE:20201025T030000
TZNAME:CET
END:STANDARD
BEGIN:DAYLIGHT
DTSTART:20200329T020000
TZOFFSETFROM:+0100
TZOFFSETTO:+0200
RDATE:20210328T020000
TZNAME:CEST
END:DAYLIGHT
END:VTIMEZONE
BEGIN:VEVENT
UID:ai1ec-4396@flse.lu
DTSTAMP:20200426T221141Z
CATEGORIES;LANGUAGE=de-DE:FLSE Events
CONTACT:
DESCRIPTION:
DTSTART;VALUE=DATE:20190330
DTEND;VALUE=DATE:20190331
SEQUENCE:0
SUMMARY:FLSE AG 2019 18:30
URL:https://flse.lu/event/flse-ag-2019-1830/
X-COST-TYPE:free
END:VEVENT
END:VCALENDAR
