BEGIN:VCALENDAR
VERSION:2.0
PRODID:-//94.242.250.210//NONSGML kigkonsult.se iCalcreator 2.26.9//
CALSCALE:GREGORIAN
METHOD:PUBLISH
X-WR-CALNAME:FLSE
X-WR-CALDESC:Fédération Luxembourgeoise des Sports Equestres
X-FROM-URL:https://flse.lu
X-WR-TIMEZONE:Europe/Luxembourg
BEGIN:VTIMEZONE
TZID:Europe/Luxembourg
X-LIC-LOCATION:Europe/Luxembourg
BEGIN:STANDARD
DTSTART:20191027T030000
TZOFFSETFROM:+0200
TZOFFSETTO:+0100
RDATE:20201025T030000
TZNAME:CET
END:STANDARD
BEGIN:DAYLIGHT
DTSTART:20200329T020000
TZOFFSETFROM:+0100
TZOFFSETTO:+0200
RDATE:20210328T020000
TZNAME:CEST
END:DAYLIGHT
END:VTIMEZONE
BEGIN:VEVENT
UID:ai1ec-4389@flse.lu
DTSTAMP:20200426T222214Z
CATEGORIES;LANGUAGE=de-DE:Springen
CONTACT:
DESCRIPTION:Endstand 4j. Springpferde 2019\nEndstand 5j. Springpferde 2019
 \nEndstand 6j. Springpferde 2019\nEndstand 7&8j. Springpferde 2019
DTSTART;VALUE=DATE:20190808
DTEND;VALUE=DATE:20190812
LOCATION:Waldbredimus @ Rue de l'École\, 5465 Waldbredimus
SEQUENCE:0
SUMMARY:Springturnier Waldbredimus
URL:https://flse.lu/event/springturnier-waldbredimus/
X-COST-TYPE:free
X-ALT-DESC;FMTTYPE=text/html:<!DOCTYPE HTML PUBLIC '-//W3C//DTD HTML 3.2//E
 N'>\\n<HTML>\\n<HEAD>\\n<TITLE></TITLE>\\n</HEAD>\\n<BODY><p><a href='http
 s://flse.lu/wp-content/uploads/2019/08/Endstand-4j.-Springpferde-2019.pdf'
 >Endstand 4j. Springpferde 2019</a></p>\n<p><a href='https://flse.lu/wp-co
 ntent/uploads/2019/08/Endstand-5j.-Springpferde-2019.pdf'>Endstand 5j. Spr
 ingpferde 2019</a></p>\n<p><a href='https://flse.lu/wp-content/uploads/201
 9/08/Endstand-6j.-Springpferde-2019.pdf'>Endstand 6j. Springpferde 2019</a
 ></p>\n<p><a href='https://flse.lu/wp-content/uploads/2019/08/Endstand-78j
 .-Springpferde-2019.pdf'>Endstand 7&8j. Springpferde 2019</a></p>\n</BODY>
 </HTML>
END:VEVENT
END:VCALENDAR
