BEGIN:VCALENDAR
VERSION:2.0
PRODID:-//94.242.250.210//NONSGML kigkonsult.se iCalcreator 2.26.9//
CALSCALE:GREGORIAN
METHOD:PUBLISH
X-WR-CALNAME:FLSE
X-WR-CALDESC:Fédération Luxembourgeoise des Sports Equestres
X-FROM-URL:https://flse.lu
X-WR-TIMEZONE:Europe/Luxembourg
BEGIN:VTIMEZONE
TZID:Europe/Luxembourg
X-LIC-LOCATION:Europe/Luxembourg
BEGIN:STANDARD
DTSTART:20191027T030000
TZOFFSETFROM:+0200
TZOFFSETTO:+0100
RDATE:20201025T030000
TZNAME:CET
END:STANDARD
BEGIN:DAYLIGHT
DTSTART:20200329T020000
TZOFFSETFROM:+0100
TZOFFSETTO:+0200
RDATE:20210328T020000
TZNAME:CEST
END:DAYLIGHT
END:VTIMEZONE
BEGIN:VEVENT
UID:ai1ec-4387@flse.lu
DTSTAMP:20200426T222435Z
CATEGORIES;LANGUAGE=de-DE:Western
CONTACT:
DESCRIPTION:Endstand Landesmeisterschaften Western 2019
DTSTART;VALUE=DATE:20190830
DTEND;VALUE=DATE:20190902
LOCATION:Dudelange @ 2 CR161\, 3417 Dudelange
SEQUENCE:0
SUMMARY:Landesmeisterschaften Western 2019
URL:https://flse.lu/event/landesmeisterschaften-western-2019/
X-COST-TYPE:free
X-ALT-DESC;FMTTYPE=text/html:<!DOCTYPE HTML PUBLIC '-//W3C//DTD HTML 3.2//E
 N'>\\n<HTML>\\n<HEAD>\\n<TITLE></TITLE>\\n</HEAD>\\n<BODY><p><a href='http
 s://flse.lu/endstand-landesmeisterschaft-westernreiten-2019/' target='_bla
 nk' rel='noopener'>Endstand Landesmeisterschaften Western 2019</a></p>\n</
 BODY></HTML>
END:VEVENT
END:VCALENDAR
